BEGIN:VCALENDAR
VERSION:2.0
PRODID:kalender.fynsland.com
METHOD:REQUEST
BEGIN:VEVENT
UID:b7941a38-ce7d-42d3-8137-430f148c748b
SUMMARY:Afsluttende arrangement i kirken
DTSTART:20260531T180000Z
URL:https://kalender.fynsland.com/event/b7941a38-ce7d-42d3-8137-430f148c748
 b
CATEGORIES:Andet\,Kirkeliv\,Horne Land
DESCRIPTION:Aften arrangement i kirken inden den lukker for
  renovering.\nDer indledes med en fortælling ved den lokale forfatter\,
  fortæller og foredragsholder Esther Rützou. Herefter vil der være
  mulighed for at deltage i en pilgrimsvandring i kirkens labyrint – en
  direkte kopi af den berømte labyrint i katedralen i Chartres.\nAftenen
  rundes af med en kort andagt ved kirkens præst\, Johanne Sloth.\n
LOCATION:Horne Rundkirke\, Søren Lundsvej 40-42\, 5600 Faaborg
GEO:55.1071672;10.1716782
ORGANIZER:mailto:Horne menighedsråd,Horne Rundkirke
END:VEVENT
END:VCALENDAR
